BEGIN:VCALENDAR
VERSION:2.0
PRODID:-//Gulf BPG - ECPv6.15.13.1//NONSGML v1.0//EN
CALSCALE:GREGORIAN
METHOD:PUBLISH
X-WR-CALNAME:Gulf BPG
X-ORIGINAL-URL:https://gulfbpg.com
X-WR-CALDESC:Events for Gulf BPG
REFRESH-INTERVAL;VALUE=DURATION:PT1H
X-Robots-Tag:noindex
X-PUBLISHED-TTL:PT1H
BEGIN:VTIMEZONE
TZID:Asia/Dubai
BEGIN:STANDARD
TZOFFSETFROM:+0400
TZOFFSETTO:+0400
TZNAME:+04
DTSTART:20230101T000000
END:STANDARD
END:VTIMEZONE
BEGIN:VEVENT
DTSTART;VALUE=DATE:20240306
DTEND;VALUE=DATE:20240307
DTSTAMP:20260421T141015
CREATED:20240527T205921Z
LAST-MODIFIED:20240527T205921Z
UID:10000433-1709683200-1709769599@gulfbpg.com
SUMMARY:Gulf BPG organizes F2F workshop for Northern UAE authorities
DESCRIPTION:Gulf BPG organized a face-to-face workshop in collaboration with Northern UAE Authorities\, including RAK\, Ajman\, and Umm Al Quwain. The event started with a warm welcome from Malek Hannouf\, Gulf BPG Chairman\, followed by a presentation on IP fundamentals\, counterfeiting\, and significant threats to brands and consumers. The presentation covered a spectrum of topics: \n• Trademarks: Types and effects of infringement of intellectual property rights. \n• Unfair competition \n• Smuggling. \n• Parallel import and its impact on local trade and revenues. \n• Judicial rulings from around the world and cooperation of authorities between countries. \nFollowing the informative sessions\, delegates were encouraged to form small groups and explore the interactive stands set up by Brand Owners. In this rotation\, brand owners actively demonstrated how to practically distinguish genuine from counterfeit products. \nParticipating Brands: LV\, RIMOWA\, Apple\, Essilor Luxottica\, Beiersdorf\, Mobis Parts Middle East FZE\, Unilever\, JTI\, Ferrero\, Kenvue\, Bulgari\, WD-40\, Gant\, Lacoste and Ecyclex. \n[vc_row type=”in_container” full_screen_row_position=”middle” column_margin=”default” column_direction=”default” column_direction_tablet=”default” column_direction_phone=”default” scene_position=”center” text_color=”dark” text_align=”left” row_border_radius=”none” row_border_radius_applies=”bg” overflow=”visible” overlay_strength=”0.3″ gradient_direction=”left_to_right” shape_divider_position=”bottom” bg_image_animation=”none”][vc_column column_padding=”no-extra-padding” column_padding_tablet=”inherit” column_padding_phone=”inherit” column_padding_position=”all” column_element_spacing=”default” background_color_opacity=”1″ background_hover_color_opacity=”1″ column_shadow=”none” column_border_radius=”none” column_link_target=”_self” column_position=”default” gradient_direction=”left_to_right” overlay_strength=”0.3″ width=”1/1″ tablet_width_inherit=”default” tablet_text_alignment=”default” phone_text_alignment=”default” animation_type=”default” bg_image_animation=”none” border_type=”simple” column_border_width=”none” column_border_style=”solid”][vc_gallery type=”nectarslider_style” images=”7402\,7404\,7406\,7408″ image_loading=”default” bullet_navigation=”true” bullet_navigation_style=”see_through” onclick=”link_image”][/vc_column][/vc_row]
URL:https://gulfbpg.com/calendar-event/gulf-bpg-organizes-f2f-workshop-for-northern-uae-authorities/
LOCATION:Rixos Bab Al Bahr – RAK
CATEGORIES:BPG Events
ATTACH;FMTTYPE=image/jpeg:https://gulfbpg.com/wp-content/uploads/2024/05/Untitled-1-16.jpg
END:VEVENT
END:VCALENDAR