BEGIN:VCALENDAR
VERSION:2.0
PRODID:-//Gulf BPG - ECPv6.15.13.1//NONSGML v1.0//EN
CALSCALE:GREGORIAN
METHOD:PUBLISH
X-ORIGINAL-URL:https://gulfbpg.com
X-WR-CALDESC:Events for Gulf BPG
REFRESH-INTERVAL;VALUE=DURATION:PT1H
X-Robots-Tag:noindex
X-PUBLISHED-TTL:PT1H
BEGIN:VTIMEZONE
TZID:Asia/Dubai
BEGIN:STANDARD
TZOFFSETFROM:+0400
TZOFFSETTO:+0400
TZNAME:+04
DTSTART:20220101T000000
END:STANDARD
END:VTIMEZONE
BEGIN:VEVENT
DTSTART;VALUE=DATE:20230221
DTEND;VALUE=DATE:20230223
DTSTAMP:20260421T141013
CREATED:20230412T205008Z
LAST-MODIFIED:20230412T205008Z
UID:10000275-1676937600-1677110399@gulfbpg.com
SUMMARY:12th Regional IP Crime Conference for the Middle East and North Africa – 2023
DESCRIPTION:The 12th Regional IP Crime Conference for the Middle East and North Africa took place on 21 -22 February 2023 in Dubai\, UAE. INTERPOL\, Dubai Police and Emirates IP Association (EIPA) co-hosted this conference in cooperation with the UAE Ministry of Interior\, Ministry of Economy\, Dubai Customs\, and the Brand Owners’ Protection Group (Gulf BPG). The conference theme was “Building Capabilities to Drive IP Leadership”. \nGulf BPG actively participated in the conference\, with Chairman Malek Hannouf and Vice Chairman Norma Akoury delivering an engaging session on the first day titled “State of The Art Snapshots From The Business World”. Malek Hannouf\, Chairman of Gulf BPG\, was awarded by His Excellency Lieutenant General Dahi Khalfan Tamim\, The Deputy Chief of Police and General Security\, for being a valuable strategic partner. \nAdditionally\, Yara Khalifah\, Gulf BPG Admin & Operations Manager\, received her IP Diploma certificate during the graduation ceremony of the Intellectual Property Expert Diploma Program – 7th batch 2022\, presented by His Excellency Lieutenant General Dahi Khalfan Tamim. \nOn the second day of the conference\, Gulf BPG led a workshop on IP and sustainability\, working with representatives from several recycling companies to prepare an action plan that emphasizes the importance of promoting innovation\, creativity\, and responsible use of resources for a sustainable future. \nThroughout the two-day conference\, Gulf BPG hosted a booth for networking and side meetings and announced the appointment of AIPPI-UAE as an observer member at the Gulf BPG Board. \n[vc_row type=”in_container” full_screen_row_position=”middle” column_margin=”default” column_direction=”default” column_direction_tablet=”default” column_direction_phone=”default” scene_position=”center” text_color=”dark” text_align=”left” row_border_radius=”none” row_border_radius_applies=”bg” overflow=”visible” overlay_strength=”0.3″ gradient_direction=”left_to_right” shape_divider_position=”bottom” bg_image_animation=”none”][vc_column column_padding=”no-extra-padding” column_padding_tablet=”inherit” column_padding_phone=”inherit” column_padding_position=”all” column_element_spacing=”default” background_color_opacity=”1″ background_hover_color_opacity=”1″ column_shadow=”none” column_border_radius=”none” column_link_target=”_self” column_position=”default” gradient_direction=”left_to_right” overlay_strength=”0.3″ width=”1/1″ tablet_width_inherit=”default” tablet_text_alignment=”default” phone_text_alignment=”default” animation_type=”default” bg_image_animation=”none” border_type=”simple” column_border_width=”none” column_border_style=”solid”][vc_gallery type=”nectarslider_style” images=”5438\,5436\,5434\,5432\,5430\,5428\,5426″ image_loading=”default” bullet_navigation=”true” bullet_navigation_style=”see_through” onclick=”link_image”][/vc_column][/vc_row]
URL:https://gulfbpg.com/calendar-event/12th-regional-ip-crime-conference-for-the-middle-east-and-north-africa-2023/
LOCATION:Mohammed Bin Rashid Library – Dubai\, UAE.
CATEGORIES:Gulf BPG News
ATTACH;FMTTYPE=image/jpeg:https://gulfbpg.com/wp-content/uploads/2023/04/Picture-6.jpeg
END:VEVENT
END:VCALENDAR