BEGIN:VCALENDAR
VERSION:2.0
PRODID:-//Gulf BPG - ECPv6.15.13.1//NONSGML v1.0//EN
CALSCALE:GREGORIAN
METHOD:PUBLISH
X-ORIGINAL-URL:https://gulfbpg.com
X-WR-CALDESC:Events for Gulf BPG
REFRESH-INTERVAL;VALUE=DURATION:PT1H
X-Robots-Tag:noindex
X-PUBLISHED-TTL:PT1H
BEGIN:VTIMEZONE
TZID:Asia/Dubai
BEGIN:STANDARD
TZOFFSETFROM:+0400
TZOFFSETTO:+0400
TZNAME:+04
DTSTART:20220101T000000
END:STANDARD
END:VTIMEZONE
BEGIN:VEVENT
DTSTART;VALUE=DATE:20230410
DTEND;VALUE=DATE:20230411
DTSTAMP:20260425T161407
CREATED:20230418T075602Z
LAST-MODIFIED:20230418T081521Z
UID:10000283-1681084800-1681171199@gulfbpg.com
SUMMARY:Gulf BPG attends Dubai Customs Ramadan Suhoor Gathering 2023
DESCRIPTION:Gulf BPG delegate attended Dubai Customs Ramadan Suhoor gathering in the presence of His Excellency Ahmed Mahboob Musabih\, Director General of Dubai Customs\, CEO of the Ports\, Customs and Free Zone Corporation\, and the department’s leadership team. This event takes place every year to foster better communication with partners and customers\, as highlighted in His Excellency’s speech per the below link. \nhttps://www.dubaicustoms.gov.ae/ar/NewsCenter/Pages/NewsDetail.aspx?NewsId=1902 \n[vc_row type=”in_container” full_screen_row_position=”middle” column_margin=”default” column_direction=”default” column_direction_tablet=”default” column_direction_phone=”default” scene_position=”center” text_color=”dark” text_align=”left” row_border_radius=”none” row_border_radius_applies=”bg” overflow=”visible” overlay_strength=”0.3″ gradient_direction=”left_to_right” shape_divider_position=”bottom” bg_image_animation=”none”][vc_column column_padding=”no-extra-padding” column_padding_tablet=”inherit” column_padding_phone=”inherit” column_padding_position=”all” column_element_spacing=”default” background_color_opacity=”1″ background_hover_color_opacity=”1″ column_shadow=”none” column_border_radius=”none” column_link_target=”_self” column_position=”default” gradient_direction=”left_to_right” overlay_strength=”0.3″ width=”1/1″ tablet_width_inherit=”default” tablet_text_alignment=”default” phone_text_alignment=”default” animation_type=”default” bg_image_animation=”none” border_type=”simple” column_border_width=”none” column_border_style=”solid”][vc_gallery type=”nectarslider_style” images=”5506\,5508\,5510\,5512″ image_loading=”default” bullet_navigation=”true” bullet_navigation_style=”see_through” onclick=”link_image”][/vc_column][/vc_row]
URL:https://gulfbpg.com/calendar-event/gulf-bpg-attends-dubai-customs-ramadan-suhoor-gathering-2023/
LOCATION:Intercontinental Festival City Hotel\, Dubai
CATEGORIES:Gulf BPG News
ATTACH;FMTTYPE=image/png:https://gulfbpg.com/wp-content/uploads/2023/04/suhoor-1.png
END:VEVENT
END:VCALENDAR