BEGIN:VCALENDAR
VERSION:2.0
PRODID:-//Gulf BPG - ECPv6.15.13.1//NONSGML v1.0//EN
CALSCALE:GREGORIAN
METHOD:PUBLISH
X-WR-CALNAME:Gulf BPG
X-ORIGINAL-URL:https://gulfbpg.com
X-WR-CALDESC:Events for Gulf BPG
REFRESH-INTERVAL;VALUE=DURATION:PT1H
X-Robots-Tag:noindex
X-PUBLISHED-TTL:PT1H
BEGIN:VTIMEZONE
TZID:Asia/Dubai
BEGIN:STANDARD
TZOFFSETFROM:+0400
TZOFFSETTO:+0400
TZNAME:+04
DTSTART:20230101T000000
END:STANDARD
END:VTIMEZONE
BEGIN:VEVENT
DTSTART;VALUE=DATE:20241030
DTEND;VALUE=DATE:20241102
DTSTAMP:20260421T141943
CREATED:20241231T103321Z
LAST-MODIFIED:20241231T103321Z
UID:10000483-1730246400-1730505599@gulfbpg.com
SUMMARY:Gulf BPG Participates in the 3rd Arab Conference on Intellectual Property under the theme “Intellectual Property and the Challenges of Artificial Intelligence”
DESCRIPTION:Gulf BPG\, represented by Chairman Malek Hannouf\, participated in the 3rd Arab Conference on Intellectual Property\, organized by the Arab Administrative Development Organization (ARADO)\, the Emirates Intellectual Property Association (EIPA)\, Egypt-Japan University of Science and Technology\, Hassan II University of Casablanca\, Hassan I University in Settat\, and Chouaib Doukkali University. \nThe conference focused on the importance of intellectual property rights in protecting data\, businesses\, and innovations using AI technologies. It assessed their impact on the interests of intellectual property rights holders. The event saw participation from over ten countries and was attended by the Minister of Higher Education and Scientific Research of Morocco\, who sponsored the conference\, marking it as a significant regional platform. \nOn the second day of the conference\, Malek Hannouf participated in a session titled “From Automation to Digital Solutions: Leading Digital Transformation to Combat Counterfeiting Crimes”\, wherein he emphasised on the importance of digitalisation in order to benefit from the AI data analytics. He added the digital transformation is no more an accessory in future strategies\, but a mandatory step in a world tech driven. \n[vc_row type=”in_container” full_screen_row_position=”middle” column_margin=”default” column_direction=”default” column_direction_tablet=”default” column_direction_phone=”default” scene_position=”center” text_color=”dark” text_align=”left” row_border_radius=”none” row_border_radius_applies=”bg” overflow=”visible” overlay_strength=”0.3″ gradient_direction=”left_to_right” shape_divider_position=”bottom” bg_image_animation=”none”][vc_column column_padding=”no-extra-padding” column_padding_tablet=”inherit” column_padding_phone=”inherit” column_padding_position=”all” column_element_spacing=”default” background_color_opacity=”1″ background_hover_color_opacity=”1″ column_shadow=”none” column_border_radius=”none” column_link_target=”_self” column_position=”default” gradient_direction=”left_to_right” overlay_strength=”0.3″ width=”1/1″ tablet_width_inherit=”default” tablet_text_alignment=”default” phone_text_alignment=”default” animation_type=”default” bg_image_animation=”none” border_type=”simple” column_border_width=”none” column_border_style=”solid”][vc_gallery type=”flexslider_style” images=”8884\,8886\,8888\,8890″ onclick=”link_no”][/vc_column][/vc_row][vc_row type=”in_container” full_screen_row_position=”middle” column_margin=”default” column_direction=”default” column_direction_tablet=”default” column_direction_phone=”default” scene_position=”center” text_color=”dark” text_align=”left” row_border_radius=”none” row_border_radius_applies=”bg” overflow=”visible” overlay_strength=”0.3″ gradient_direction=”left_to_right” shape_divider_position=”bottom” bg_image_animation=”none”][vc_column column_padding=”no-extra-padding” column_padding_tablet=”inherit” column_padding_phone=”inherit” column_padding_position=”all” column_element_spacing=”default” background_color_opacity=”1″ background_hover_color_opacity=”1″ column_shadow=”none” column_border_radius=”none” column_link_target=”_self” column_position=”default” gradient_direction=”left_to_right” overlay_strength=”0.3″ width=”1/1″ tablet_width_inherit=”default” tablet_text_alignment=”default” phone_text_alignment=”default” animation_type=”default” bg_image_animation=”none” border_type=”simple” column_border_width=”none” column_border_style=”solid”][vc_column_text]
URL:https://gulfbpg.com/calendar-event/gulf-bpg-participates-in-the-3rd-arab-conference-on-intellectual-property-under-the-theme-intellectual-property-and-the-challenges-of-artificial-intelligence/
LOCATION:Grand Mogador Casablanca\, Morocco
CATEGORIES:Gulf BPG News
ATTACH;FMTTYPE=image/jpeg:https://gulfbpg.com/wp-content/uploads/2024/12/Gulf-BPG-Website-14.jpg
END:VEVENT
END:VCALENDAR