BEGIN:VCALENDAR
VERSION:2.0
PRODID:-//Gulf BPG - ECPv6.15.13.1//NONSGML v1.0//EN
CALSCALE:GREGORIAN
METHOD:PUBLISH
X-WR-CALNAME:Gulf BPG
X-ORIGINAL-URL:https://gulfbpg.com
X-WR-CALDESC:Events for Gulf BPG
REFRESH-INTERVAL;VALUE=DURATION:PT1H
X-Robots-Tag:noindex
X-PUBLISHED-TTL:PT1H
BEGIN:VTIMEZONE
TZID:Asia/Dubai
BEGIN:STANDARD
TZOFFSETFROM:+0400
TZOFFSETTO:+0400
TZNAME:+04
DTSTART:20240101T000000
END:STANDARD
END:VTIMEZONE
BEGIN:VEVENT
DTSTART;VALUE=DATE:20250428
DTEND;VALUE=DATE:20250429
DTSTAMP:20260419T172831
CREATED:20251113T130322Z
LAST-MODIFIED:20251113T130322Z
UID:10000518-1745798400-1745884799@gulfbpg.com
SUMMARY:Gulf BPG Participates in World IP Day activities organized by EIPA
DESCRIPTION:Gulf BPG\, represented by Board Member Bassel El Turk\, participated in an event organized by the Emirates Intellectual Property Association (EIPA) in collaboration with its partners to celebrate World IP Day. \nThe dialogue session\, titled “Intellectual Property and Innovation in the Age of Modern Technology: Towards an Urban Environment that Celebrates Creativity and Protects Creators”\, focused on the role of intellectual property in fostering technological innovation and safeguarding the rights of creators within a dynamic urban environment. \nBassel highlighted how modern technology has revolutionized music creation\, distribution\, and consumption\, empowering artists to reach global audiences instantly. However\, he emphasized that this digital transformation also brings new challenges—particularly in protecting creators’ rights amidst online piracy\, unauthorized streaming\, and the use of AI-generated content. \nHe stressed the importance of strong IP frameworks and collaborative efforts among artists\, policymakers\, and enforcement authorities to build an urban ecosystem that values creativity\, respects originality\, and ensures fair compensation for creators. \n[vc_row type=”in_container” full_screen_row_position=”middle” column_margin=”default” column_direction=”default” column_direction_tablet=”default” column_direction_phone=”default” scene_position=”center” text_color=”dark” text_align=”left” row_border_radius=”none” row_border_radius_applies=”bg” overflow=”visible” overlay_strength=”0.3″ gradient_direction=”left_to_right” shape_divider_position=”bottom” bg_image_animation=”none”][vc_column column_padding=”no-extra-padding” column_padding_tablet=”inherit” column_padding_phone=”inherit” column_padding_position=”all” column_element_spacing=”default” background_color_opacity=”1″ background_hover_color_opacity=”1″ column_shadow=”none” column_border_radius=”none” column_link_target=”_self” column_position=”default” gradient_direction=”left_to_right” overlay_strength=”0.3″ width=”1/1″ tablet_width_inherit=”default” tablet_text_alignment=”default” phone_text_alignment=”default” animation_type=”default” bg_image_animation=”none” border_type=”simple” column_border_width=”none” column_border_style=”solid”][vc_gallery type=”nectarslider_style” images=”9589\,9591″ image_loading=”default” bullet_navigation=”true” bullet_navigation_style=”see_through” onclick=”link_image”][/vc_column][/vc_row]
URL:https://gulfbpg.com/calendar-event/gulf-bpg-participates-in-world-ip-day-activities-organized-by-eipa/
LOCATION:Dubai Chamber
CATEGORIES:Gulf BPG News
ATTACH;FMTTYPE=image/jpeg:https://gulfbpg.com/wp-content/uploads/2025/11/2.jpg
END:VEVENT
END:VCALENDAR