BEGIN:VCALENDAR
VERSION:2.0
PRODID:-//Gulf BPG - ECPv6.15.13.1//NONSGML v1.0//EN
CALSCALE:GREGORIAN
METHOD:PUBLISH
X-WR-CALNAME:Gulf BPG
X-ORIGINAL-URL:https://gulfbpg.com
X-WR-CALDESC:Events for Gulf BPG
REFRESH-INTERVAL;VALUE=DURATION:PT1H
X-Robots-Tag:noindex
X-PUBLISHED-TTL:PT1H
BEGIN:VTIMEZONE
TZID:Asia/Dubai
BEGIN:STANDARD
TZOFFSETFROM:+0400
TZOFFSETTO:+0400
TZNAME:+04
DTSTART:20240101T000000
END:STANDARD
END:VTIMEZONE
BEGIN:VEVENT
DTSTART;VALUE=DATE:20251125
DTEND;VALUE=DATE:20251127
DTSTAMP:20260424T172738
CREATED:20260112T204222Z
LAST-MODIFIED:20260112T204517Z
UID:10000585-1764028800-1764201599@gulfbpg.com
SUMMARY:Gulf BPG Expands Regional Engagement Through IP Enforcement Training in Egypt
DESCRIPTION:Under the patronage of the Egyptian Intellectual Property Authority (EGIPA)\, Gulf BPG successfully organized a two-day specialized training program in Cairo and Alexandria\, as part of its ongoing efforts to expand its regional engagement and strengthen cross-border cooperation in intellectual property enforcement. The program brought together representatives from Egyptian Customs\, the Economic Courts\, the Ministry of Interior\, the Ministry of Justice\, and the Ministry of Investment and Foreign Trade. \nThe program commenced with welcoming remarks on behalf of the Gulf BPG Chairman\, delivered by Ms. Rima El Achkar\, who welcomed the participating authorities and emphasized the importance of public-private collaboration in enhancing trademark protection and enforcement. \nThe opening session also featured welcoming remarks on behalf of EGIPA Chairman\, Dr. Hisham Azmi\, delivered by Dr. Mai Hassan\, Assistant Chairman of EGIPA\, followed by a presentation by Dr. Fatma Samir\, General Director of the IP Center of Excellence (EGIPA). The presentation provided an overview of EGIPA’s mandate\, an introduction to intellectual property\, and highlighted key challenges in trademark protection within the Egyptian market. \nEgyptian Customs contributed through presentations delivered by Mr. Mohamed Hamdy Abdel Wahab\, Head of the Intellectual Property Rights Department\, and Mr. Mohamed Maher\, Intellectual Property Rights Protection Manager\, focusing on customs procedures\, enforcement best practices\, and the challenges faced in addressing trademark infringements\, while underscoring the importance of coordinated efforts with rights holders. \nThe program was further enriched by the active participation of around 24 brand owners\, who delivered authentication presentations\, showcased products\, and conducted hands-on training sessions\, providing practical insights to support authorities in identifying infringements and strengthening enforcement outcomes. \nTo conclude the training program\, roundtable discussion sessions were held between brand owners and the participating authorities. Each authority was assigned a dedicated table\, enabling focused and open discussions on authority-specific procedures\, operational challenges\, and practical cooperation mechanisms. These interactive sessions fostered direct dialogue\, strengthened mutual understanding\, and reinforced effective collaboration between the public and private sectors to enhance intellectual property enforcement. \n[vc_row type=”in_container” full_screen_row_position=”middle” column_margin=”default” column_direction=”default” column_direction_tablet=”default” column_direction_phone=”default” scene_position=”center” text_color=”dark” text_align=”left” row_border_radius=”none” row_border_radius_applies=”bg” row_position_desktop=”default” row_position_tablet=”inherit” row_position_phone=”inherit” overflow=”visible” overlay_strength=”0.3″ gradient_direction=”left_to_right” shape_divider_position=”bottom” bg_image_animation=”none”][vc_column column_padding=”no-extra-padding” column_padding_tablet=”inherit” column_padding_phone=”inherit” column_padding_position=”all” flex_gap_desktop=”10px” column_element_direction_desktop=”default” column_element_spacing=”default” desktop_text_alignment=”default” tablet_text_alignment=”default” phone_text_alignment=”default” background_color_opacity=”1″ background_hover_color_opacity=”1″ column_backdrop_filter=”none” column_shadow=”none” column_border_radius=”none” column_link_target=”_self” column_position=”default” gradient_direction=”left_to_right” overlay_strength=”0.3″ width=”1/1″ tablet_width_inherit=”default” animation_type=”default” bg_image_animation=”none” border_type=”simple” column_border_width=”none” column_border_style=”solid”][vc_gallery css=”” type=”nectarslider_style” images=”10452\,10454\,10456\,10458\,10460\,10462\,10464\,10466\,10468\,10470\,10472″ image_loading=”default” ns_image_rendering=”default” ns_image_aspect_ratio=”default” bullet_navigation=”true” bullet_navigation_style=”see_through” onclick=”link_image”][/vc_column][/vc_row]
URL:https://gulfbpg.com/calendar-event/gulf-bpg-expands-regional-engagement-through-ip-enforcement-training-in-egypt/
LOCATION:Cairo – Steigenberger Pyramids Cairo Hotel / Alexandria – Helnan Palace Hotel
CATEGORIES:BPG Events
ATTACH;FMTTYPE=image/jpeg:https://gulfbpg.com/wp-content/uploads/2026/01/3-17.jpg
END:VEVENT
END:VCALENDAR