BEGIN:VCALENDAR
VERSION:2.0
PRODID:-//Gulf BPG - ECPv6.15.13.1//NONSGML v1.0//EN
CALSCALE:GREGORIAN
METHOD:PUBLISH
X-ORIGINAL-URL:https://gulfbpg.com
X-WR-CALDESC:Events for Gulf BPG
REFRESH-INTERVAL;VALUE=DURATION:PT1H
X-Robots-Tag:noindex
X-PUBLISHED-TTL:PT1H
BEGIN:VTIMEZONE
TZID:Asia/Dubai
BEGIN:STANDARD
TZOFFSETFROM:+0400
TZOFFSETTO:+0400
TZNAME:+04
DTSTART:20250101T000000
END:STANDARD
END:VTIMEZONE
BEGIN:VEVENT
DTSTART;VALUE=DATE:20260120
DTEND;VALUE=DATE:20260121
DTSTAMP:20260422T211228
CREATED:20260324T175752Z
LAST-MODIFIED:20260324T175917Z
UID:10000605-1768867200-1768953599@gulfbpg.com
SUMMARY:Online Training session for AD Customs Inspectors
DESCRIPTION:Brands: Puma\, Van Cleef & Arpel\, Cartier\, Mont Blanc and Richemont \n[vc_row type=”in_container” full_screen_row_position=”middle” column_margin=”default” column_direction=”default” column_direction_tablet=”default” column_direction_phone=”default” scene_position=”center” text_color=”dark” text_align=”left” row_border_radius=”none” row_border_radius_applies=”bg” row_position_desktop=”default” row_position_tablet=”inherit” row_position_phone=”inherit” overflow=”visible” overlay_strength=”0.3″ gradient_direction=”left_to_right” shape_divider_position=”bottom” bg_image_animation=”none”][vc_column column_padding=”no-extra-padding” column_padding_tablet=”inherit” column_padding_phone=”inherit” column_padding_position=”all” flex_gap_desktop=”10px” column_element_direction_desktop=”default” column_element_spacing=”default” desktop_text_alignment=”default” tablet_text_alignment=”default” phone_text_alignment=”default” background_color_opacity=”1″ background_hover_color_opacity=”1″ column_backdrop_filter=”none” column_shadow=”none” column_border_radius=”none” column_link_target=”_self” column_position=”default” gradient_direction=”left_to_right” overlay_strength=”0.3″ width=”1/1″ tablet_width_inherit=”default” animation_type=”default” bg_image_animation=”none” border_type=”simple” column_border_width=”none” column_border_style=”solid”][vc_gallery css=”” type=”nectarslider_style” images=”10777\,10779\,10781\,10783″ image_loading=”default” ns_image_rendering=”default” ns_image_aspect_ratio=”default” bullet_navigation=”true” bullet_navigation_style=”see_through” onclick=”link_image”][/vc_column][/vc_row]
URL:https://gulfbpg.com/calendar-event/online-training-session-for-ad-customs-inspectors/
CATEGORIES:BPG Events
ATTACH;FMTTYPE=image/jpeg:https://gulfbpg.com/wp-content/uploads/2023/04/ad-custom-news.jpg
END:VEVENT
END:VCALENDAR